BEGIN:VCALENDAR
VERSION:2.0
PRODID:-//DANCE ON SCREEN - ECPv6.15.19//NONSGML v1.0//EN
CALSCALE:GREGORIAN
METHOD:PUBLISH
X-ORIGINAL-URL:https://danceonscreen.ch
X-WR-CALDESC:Events for DANCE ON SCREEN
REFRESH-INTERVAL;VALUE=DURATION:PT1H
X-Robots-Tag:noindex
X-PUBLISHED-TTL:PT1H
BEGIN:VTIMEZONE
TZID:Europe/Zurich
BEGIN:DAYLIGHT
TZOFFSETFROM:+0100
TZOFFSETTO:+0200
TZNAME:CEST
DTSTART:20250330T010000
END:DAYLIGHT
BEGIN:STANDARD
TZOFFSETFROM:+0200
TZOFFSETTO:+0100
TZNAME:CET
DTSTART:20251026T010000
END:STANDARD
BEGIN:DAYLIGHT
TZOFFSETFROM:+0100
TZOFFSETTO:+0200
TZNAME:CEST
DTSTART:20260329T010000
END:DAYLIGHT
BEGIN:STANDARD
TZOFFSETFROM:+0200
TZOFFSETTO:+0100
TZNAME:CET
DTSTART:20261025T010000
END:STANDARD
BEGIN:DAYLIGHT
TZOFFSETFROM:+0100
TZOFFSETTO:+0200
TZNAME:CEST
DTSTART:20270328T010000
END:DAYLIGHT
BEGIN:STANDARD
TZOFFSETFROM:+0200
TZOFFSETTO:+0100
TZNAME:CET
DTSTART:20271031T010000
END:STANDARD
END:VTIMEZONE
BEGIN:VEVENT
DTSTART;TZID=Europe/Zurich:20260410T203000
DTEND;TZID=Europe/Zurich:20260410T215000
DTSTAMP:20260422T135145
CREATED:20260206T232433Z
LAST-MODIFIED:20260324T211754Z
UID:5860-1775853000-1775857800@danceonscreen.ch
SUMMARY:DOS 2026: SHORTS 2  - SENSING BODIES I︱ 1 h + Q&A
DESCRIPTION:TICKETS︱ARTHOUSE KINO PICCADILLY 1 ︱ Zürich\n    \n  \n\n    Back to DANCE ON SCREEN 2026︱SHORTS 2 - SENSING BODIES I
URL:https://danceonscreen.ch/event/dance-on-screen-2026-%ef%b8%b1-shorts-2-sensing-bodies-i/
LOCATION:Arthouse Kinos PICCADILLY 1\, Mühlebachstrasse 2\, Zürich\, 8008\, Switzerland
END:VEVENT
END:VCALENDAR